BEGIN:VCALENDAR
VERSION:2.0
PRODID:icalendar-ruby
CALSCALE:GREGORIAN
METHOD:PUBLISH
BEGIN:VEVENT
DTSTAMP:20260425T214937Z
UID:158-666147@kansasbaptistchurch.org
DTSTART:20261029T130000Z
DTEND:20261029T160000Z
CLASS:PUBLIC
CREATED:20260425T173708
DESCRIPTION:Meeting people where they are!\nEveryone needs prayer!\nCome jo
 in Sasha and pray for people as they pull in and share their burdens to fi
 nd comfort from the Lord.\nMon &amp\; Wed 9am-12pm\n      Text Sasha
  for Info 770.596.8821
LAST-MODIFIED:20260425T173708
LOCATION:Kansas Baptist Church
SUMMARY:Drive-Thru Prayer
URL;VALUE=URI:https://kansasbaptistchurch.org/events/drive-thru-prayer/2026
 -10-29
ATTACH;FILENAME=Prayer-drive-thru.png;FMTTYPE=image/png:https://dq5pwpg1q8r
 u0.cloudfront.net/2024/07/20/18/46/24/8b34f3c3-ebce-4faf-915e-4a66a661a564
 /Prayer-drive-thru.png
END:VEVENT
END:VCALENDAR
