BEGIN:VCALENDAR
VERSION:2.0
PRODID:icalendar-ruby
CALSCALE:GREGORIAN
METHOD:PUBLISH
BEGIN:VEVENT
DTSTAMP:20260424T001906Z
UID:145-659132@kansasbaptistchurch.org
DTSTART:20261004T143000Z
DTEND:20261004T160000Z
CLASS:PUBLIC
CREATED:20260423T183622
DESCRIPTION:If you are looking for a hospital for the broken\, a refuge for
  the hurting\, or a family to praise our Saviour with\, you have found it!
 \nCome join us for a combination of classic redbook hymns and contemporary
  christian music along with a Godly inspired message.\nCome as a visitor b
 ut leave as family.
LAST-MODIFIED:20260423T183622
LOCATION:Kansas Baptist Church
SUMMARY:Sunday Morning Worship Service
URL;VALUE=URI:https://kansasbaptistchurch.org/events/sunday-morning-worship
 -service--144/2026-10-04
ATTACH;FILENAME=IMG_9925.jpg;FMTTYPE=image/jpeg:https://dq5pwpg1q8ru0.cloud
 front.net/2024/06/30/01/08/34/0834f181-696a-4b24-becb-3de67059b858/IMG_992
 5.jpg
END:VEVENT
END:VCALENDAR
